BEGIN:VCALENDAR
VERSION:2.0
METHOD:PUBLISH
BEGIN:VEVENT
DTSTAMP:20260421T224122Z
DTSTART:20200927T180000Z
DTEND:20200927T190000Z
SUMMARY:Remember, It’s Okay
LOCATION:Microsoft Teams
END:VEVENT
END:VCALENDAR
