BEGIN:VCALENDAR
VERSION:2.0
METHOD:PUBLISH
BEGIN:VEVENT
DTSTAMP:20260419T232507Z
DTSTART:20210821T140000Z
DTEND:20210821T150000Z
SUMMARY:Fun with Science: Online Workshop
LOCATION:Microsoft Teams
END:VEVENT
END:VCALENDAR
