BEGIN:VCALENDAR
VERSION:2.0
METHOD:PUBLISH
BEGIN:VEVENT
DTSTAMP:20260424T133357Z
DTSTART:20211030T183000Z
DTEND:20211030T193000Z
SUMMARY:Islamic Heritage Month Virtual Speaker Panel
LOCATION:Microsoft Teams 
END:VEVENT
END:VCALENDAR
