BEGIN:VCALENDAR
VERSION:2.0
METHOD:PUBLISH
BEGIN:VEVENT
DTSTAMP:20260422T104829Z
DTSTART:20211117T153000Z
DTEND:20211117T161500Z
SUMMARY:Infant Time in the Park
LOCATION:Village Green Park, 48 Hewitt St. Orangeville
END:VEVENT
END:VCALENDAR
