BEGIN:VCALENDAR
VERSION:2.0
METHOD:PUBLISH
BEGIN:VEVENT
DTSTAMP:20260421T125540Z
DTSTART:20211201T000000Z
DTEND:20211201T010000Z
SUMMARY:Make a Will Month - Public Seminar
LOCATION:Microsoft Teams
END:VEVENT
END:VCALENDAR
