BEGIN:VCALENDAR
VERSION:2.0
METHOD:PUBLISH
BEGIN:VEVENT
DTSTAMP:20260424T062706Z
DTSTART:20211205T190000Z
DTEND:20211205T200000Z
SUMMARY:Words the Orangeville Way Literary Event
LOCATION:Microsoft Teams
END:VEVENT
END:VCALENDAR
