BEGIN:VCALENDAR
VERSION:2.0
METHOD:PUBLISH
BEGIN:VEVENT
DTSTAMP:20260425T154133Z
DTSTART:20220803T160000Z
DTEND:20220803T180000Z
SUMMARY:Mill TD Summer Reading Reporting
LOCATION:1 Mill Street
END:VEVENT
END:VCALENDAR
