BEGIN:VCALENDAR
VERSION:2.0
METHOD:PUBLISH
BEGIN:VEVENT
DTSTAMP:20260419T182208Z
DTSTART:20220809T230000Z
DTEND:20220810T003000Z
SUMMARY:After Hours Write Club
LOCATION:1 Mill Street
END:VEVENT
END:VCALENDAR
