BEGIN:VCALENDAR
VERSION:2.0
METHOD:PUBLISH
BEGIN:VEVENT
DTSTAMP:20260425T164824Z
DTSTART:20220822T200000Z
DTEND:20220822T220000Z
SUMMARY:Alder TD Summer Reading Reporting 
LOCATION:Alder Street Library
END:VEVENT
END:VCALENDAR
