BEGIN:VCALENDAR
VERSION:2.0
METHOD:PUBLISH
BEGIN:VEVENT
DTSTAMP:20260422T040518Z
DTSTART:20220915T223000Z
DTEND:20220915T231500Z
SUMMARY:Jurassic Park Escape Room 3
LOCATION:1 Mill Street
END:VEVENT
END:VCALENDAR
