BEGIN:VCALENDAR
VERSION:2.0
METHOD:PUBLISH
BEGIN:VEVENT
DTSTAMP:20260422T205920Z
DTSTART:20220926T140000Z
DTEND:20220926T153000Z
SUMMARY:Adventures in the Park
LOCATION:Every Kids Park, 30 Lawrence Ave.
END:VEVENT
END:VCALENDAR
