BEGIN:VCALENDAR
VERSION:2.0
METHOD:PUBLISH
BEGIN:VEVENT
DTSTAMP:20260421T062612Z
DTSTART:20221018T143000Z
DTEND:20221018T150000Z
SUMMARY:Every Child Ready to Read Storytime
LOCATION:Alder Street library - 275 Alder Street
END:VEVENT
END:VCALENDAR
