BEGIN:VCALENDAR
VERSION:2.0
METHOD:PUBLISH
BEGIN:VEVENT
DTSTAMP:20260420T180442Z
DTSTART:20221024T140000Z
DTEND:20221024T153000Z
SUMMARY:Adventures in the Park
LOCATION:Every Kids Park, 30 Lawrence Ave.
END:VEVENT
END:VCALENDAR
