BEGIN:VCALENDAR
VERSION:2.0
METHOD:PUBLISH
BEGIN:VEVENT
DTSTAMP:20260421T063253Z
DTSTART:20221108T153000Z
DTEND:20221108T160000Z
SUMMARY:Every Child Ready to Read Storytime
LOCATION:Alder Street library - 275 Alder Street
END:VEVENT
END:VCALENDAR
