BEGIN:VCALENDAR
VERSION:2.0
METHOD:PUBLISH
BEGIN:VEVENT
DTSTAMP:20260420T192824Z
DTSTART:20221121T150000Z
DTEND:20221121T163000Z
SUMMARY:Adventures in the Park
LOCATION:Every Kids Park, 30 Lawrence Ave.
END:VEVENT
END:VCALENDAR
