BEGIN:VCALENDAR
VERSION:2.0
METHOD:PUBLISH
BEGIN:VEVENT
DTSTAMP:20260419T173216Z
DTSTART:20221125T000000Z
DTEND:20221125T013000Z
SUMMARY:Queer Village Book Club
LOCATION:Alder Library, 275 Alder Street
END:VEVENT
END:VCALENDAR
