BEGIN:VCALENDAR
VERSION:2.0
METHOD:PUBLISH
BEGIN:VEVENT
DTSTAMP:20260425T183323Z
DTSTART:20230119T153000Z
DTEND:20230119T160000Z
SUMMARY:Every Child Ready to Read Storytime
LOCATION:Alder Library, 275 Alder Street
END:VEVENT
END:VCALENDAR
