BEGIN:VCALENDAR
VERSION:2.0
METHOD:PUBLISH
BEGIN:VEVENT
DTSTAMP:20260420T061630Z
DTSTART:20230313T180000Z
DTEND:20230313T190000Z
SUMMARY:Zumba Kids
LOCATION:Princess Elizabeth Public School, 51 Elizabeth St, Orangeville
END:VEVENT
END:VCALENDAR
