BEGIN:VCALENDAR
VERSION:2.0
METHOD:PUBLISH
BEGIN:VEVENT
DTSTAMP:20260422T012021Z
DTSTART:20230321T230000Z
DTEND:20230322T003000Z
SUMMARY:After Hours Write Club
LOCATION:Alder Library, 275 Alder Street
END:VEVENT
END:VCALENDAR
