BEGIN:VCALENDAR
VERSION:2.0
METHOD:PUBLISH
BEGIN:VEVENT
DTSTAMP:20260420T021234Z
DTSTART:20230329T230000Z
DTEND:20230330T003000Z
SUMMARY:Check It Out Book Club
LOCATION:Alder Library, 275 Alder Street
END:VEVENT
END:VCALENDAR
