BEGIN:VCALENDAR
VERSION:2.0
METHOD:PUBLISH
BEGIN:VEVENT
DTSTAMP:20260422T161615Z
DTSTART:20230516T230000Z
DTEND:20230517T000000Z
SUMMARY:Coffee, Conversation and Books
LOCATION:Orangeville Town Hall Atrium, 87 Broadway
END:VEVENT
END:VCALENDAR
