BEGIN:VCALENDAR
VERSION:2.0
METHOD:PUBLISH
BEGIN:VEVENT
DTSTAMP:20260420T234539Z
DTSTART:20230919T170000Z
DTEND:20230919T183000Z
SUMMARY:Orange thREADS
LOCATION:Alder Library, 275 Alder Street
END:VEVENT
END:VCALENDAR
