BEGIN:VCALENDAR
VERSION:2.0
METHOD:PUBLISH
BEGIN:VEVENT
DTSTAMP:20260421T025553Z
DTSTART:20231026T230000Z
DTEND:20231027T003000Z
SUMMARY:Paranormal Investigations: Storytelling Series
LOCATION:Alder Street Library
END:VEVENT
END:VCALENDAR
