BEGIN:VCALENDAR
VERSION:2.0
METHOD:PUBLISH
BEGIN:VEVENT
DTSTAMP:20260420T171059Z
DTSTART:20231106T150000Z
DTEND:20231106T163000Z
SUMMARY:Adventures in the Park
LOCATION:Village Green Park, 53 Hewitt St.
END:VEVENT
END:VCALENDAR
