BEGIN:VCALENDAR
VERSION:2.0
METHOD:PUBLISH
BEGIN:VEVENT
DTSTAMP:20260421T013741Z
DTSTART:20240525T120000Z
DTEND:20240525T170000Z
SUMMARY:Friends of the Library Plant and Book Sale
LOCATION:Train Station, 49 Town Line, Orangeville
END:VEVENT
END:VCALENDAR
