BEGIN:VCALENDAR
VERSION:2.0
METHOD:PUBLISH
BEGIN:VEVENT
DTSTAMP:20260422T112718Z
DTSTART:20240820T143000Z
DTEND:20240820T151500Z
SUMMARY:Stories in the Sun
LOCATION:Harvey Curry (Every Kids) Park, 30 Lawrence Avenue
END:VEVENT
END:VCALENDAR
