BEGIN:VCALENDAR
VERSION:2.0
METHOD:PUBLISH
BEGIN:VEVENT
DTSTAMP:20260422T083007Z
DTSTART:20241029T143000Z
DTEND:20241029T150000Z
SUMMARY:Every Child Ready to Read Storytime
LOCATION:Alder Street Library, 275 Alder Street
END:VEVENT
END:VCALENDAR
