BEGIN:VCALENDAR
VERSION:2.0
METHOD:PUBLISH
BEGIN:VEVENT
DTSTAMP:20260425T152407Z
DTSTART:20241106T210000Z
DTEND:20241106T220000Z
SUMMARY:Youth Social Justice Club 
LOCATION:1 Mill Street, Orangeville
END:VEVENT
END:VCALENDAR
