BEGIN:VCALENDAR
VERSION:2.0
METHOD:PUBLISH
BEGIN:VEVENT
DTSTAMP:20260421T015730Z
DTSTART:20241128T000000Z
DTEND:20241128T013000Z
SUMMARY:Check It Out Book Club
LOCATION:Mill Street Library, 1 Mill Street
END:VEVENT
END:VCALENDAR
