BEGIN:VCALENDAR
VERSION:2.0
METHOD:PUBLISH
BEGIN:VEVENT
DTSTAMP:20260426T031417Z
DTSTART:20250204T150000Z
DTEND:20250204T163000Z
SUMMARY:Friends of the Library meeting
LOCATION:Mill Street Library, 1 Mill Street
END:VEVENT
END:VCALENDAR
