BEGIN:VCALENDAR
VERSION:2.0
METHOD:PUBLISH
BEGIN:VEVENT
DTSTAMP:20260424T090437Z
DTSTART:20250212T153000Z
DTEND:20250212T170000Z
SUMMARY:Books and Loose Parts
LOCATION:Mill Street Library, 1 Mill Street
END:VEVENT
END:VCALENDAR
