BEGIN:VCALENDAR
VERSION:2.0
METHOD:PUBLISH
BEGIN:VEVENT
DTSTAMP:20260422T025529Z
DTSTART:20260403T140000Z
DTEND:20260403T210000Z
SUMMARY:Library Closed for Holiday
LOCATION:1 Mill Street, Orangeville
END:VEVENT
END:VCALENDAR
