BEGIN:VCALENDAR
VERSION:2.0
METHOD:PUBLISH
BEGIN:VEVENT
DTSTAMP:20260422T013925Z
DTSTART:20260405T140000Z
DTEND:20260405T210000Z
SUMMARY:Library Closed for Holiday
LOCATION:1 Mill Street, Orangeville
END:VEVENT
END:VCALENDAR
