BEGIN:VCALENDAR
VERSION:2.0
METHOD:PUBLISH
BEGIN:VEVENT
DTSTAMP:20260422T014617Z
DTSTART:20260408T170000Z
DTEND:20260408T190000Z
SUMMARY:Free Tax Clinic
LOCATION:1 Mill Street
END:VEVENT
END:VCALENDAR
