BEGIN:VCALENDAR
VERSION:2.0
METHOD:PUBLISH
BEGIN:VEVENT
DTSTAMP:20260422T014414Z
DTSTART:20260414T143000Z
DTEND:20260414T163000Z
SUMMARY:Free Income Tax Clinic
LOCATION:1 Mill Street
END:VEVENT
END:VCALENDAR
