BEGIN:VCALENDAR
VERSION:2.0
METHOD:PUBLISH
BEGIN:VEVENT
DTSTAMP:20260422T015349Z
DTSTART:20260415T170000Z
DTEND:20260415T190000Z
SUMMARY:Free Tax Clinic
LOCATION:1 Mill Street
END:VEVENT
END:VCALENDAR
