BEGIN:VCALENDAR
VERSION:2.0
METHOD:PUBLISH
BEGIN:VEVENT
DTSTAMP:20260422T014751Z
DTSTART:20260415T230000Z
DTEND:20260416T000000Z
SUMMARY:Author Spotlight: Alex Van Wyst
LOCATION:Grand Valley Public Library, 4 Amaranth St. E.
END:VEVENT
END:VCALENDAR
