BEGIN:VCALENDAR
VERSION:2.0
METHOD:PUBLISH
BEGIN:VEVENT
DTSTAMP:20260422T013202Z
DTSTART:20260415T230000Z
DTEND:20260416T003000Z
SUMMARY:Next Chapter Book Club
LOCATION:1 Mill Street
END:VEVENT
END:VCALENDAR
