BEGIN:VCALENDAR
VERSION:2.0
METHOD:PUBLISH
BEGIN:VEVENT
DTSTAMP:20260422T013940Z
DTSTART:20260416T143000Z
DTEND:20260416T163000Z
SUMMARY:Free Tax Clinic
LOCATION:1 Mill Street
END:VEVENT
END:VCALENDAR
