BEGIN:VCALENDAR
VERSION:2.0
METHOD:PUBLISH
BEGIN:VEVENT
DTSTAMP:20260422T015252Z
DTSTART:20260416T220000Z
DTEND:20260416T230000Z
SUMMARY: Why the Rule of Law Should Matter to Every Ontarian
LOCATION:1 Mill Street, Orangeville
END:VEVENT
END:VCALENDAR
