BEGIN:VCALENDAR
VERSION:2.0
METHOD:PUBLISH
BEGIN:VEVENT
DTSTAMP:20260422T014516Z
DTSTART:20260419T170000Z
DTEND:20260419T190000Z
SUMMARY:Headwaters Writers' Guild Spring Open Mic
LOCATION:1 Mill Street, Orangeville
END:VEVENT
END:VCALENDAR
