BEGIN:VCALENDAR
VERSION:2.0
METHOD:PUBLISH
BEGIN:VEVENT
DTSTAMP:20260422T013335Z
DTSTART:20260420T140000Z
DTEND:20260421T000000Z
SUMMARY:Library Closed for staff training
LOCATION:1 Mill Street, Orangeville
END:VEVENT
END:VCALENDAR
