BEGIN:VCALENDAR
VERSION:2.0
METHOD:PUBLISH
BEGIN:VEVENT
DTSTAMP:20260422T030236Z
DTSTART:20260421T143000Z
DTEND:20260421T163000Z
SUMMARY:Free Income Tax Clinic
LOCATION:1 Mill Street
END:VEVENT
END:VCALENDAR
