BEGIN:VCALENDAR
VERSION:2.0
METHOD:PUBLISH
BEGIN:VEVENT
DTSTAMP:20260420T164917Z
DTSTART:20260421T170000Z
DTEND:20260421T183000Z
SUMMARY:Orange thREADs
LOCATION:1 Mill Street
END:VEVENT
END:VCALENDAR
