BEGIN:VCALENDAR
VERSION:2.0
METHOD:PUBLISH
BEGIN:VEVENT
DTSTAMP:20260422T025631Z
DTSTART:20260421T230000Z
DTEND:20260422T003000Z
SUMMARY:After Hours Write Club
LOCATION:1 Mill Street, Orangeville
END:VEVENT
END:VCALENDAR
