BEGIN:VCALENDAR
VERSION:2.0
METHOD:PUBLISH
BEGIN:VEVENT
DTSTAMP:20260422T013321Z
DTSTART:20260422T230000Z
DTEND:20260423T003000Z
SUMMARY:Check it Out Book Club
LOCATION:1 Mill Street, Orangeville
END:VEVENT
END:VCALENDAR
