BEGIN:VCALENDAR
VERSION:2.0
METHOD:PUBLISH
BEGIN:VEVENT
DTSTAMP:20260422T013434Z
DTSTART:20260423T223000Z
DTEND:20260424T000000Z
SUMMARY:Queer Village Book Club
LOCATION:1 Mill Street, Orangeville
END:VEVENT
END:VCALENDAR
