BEGIN:VCALENDAR
VERSION:2.0
METHOD:PUBLISH
BEGIN:VEVENT
DTSTAMP:20260422T013915Z
DTSTART:20260427T203000Z
DTEND:20260427T213000Z
SUMMARY:After School Club
LOCATION:1 Mill Street, Orangeville
END:VEVENT
END:VCALENDAR
