BEGIN:VCALENDAR
VERSION:2.0
METHOD:PUBLISH
BEGIN:VEVENT
DTSTAMP:20260422T025714Z
DTSTART:20260505T230000Z
DTEND:20260506T003000Z
SUMMARY:After Hours Write Club
LOCATION:1 Mill Street, Orangeville
END:VEVENT
END:VCALENDAR
