BEGIN:VCALENDAR
VERSION:2.0
METHOD:PUBLISH
BEGIN:VEVENT
DTSTAMP:20260420T181721Z
DTSTART:20260616T170000Z
DTEND:20260616T183000Z
SUMMARY:Orange thREADs
LOCATION:1 Mill Street
END:VEVENT
END:VCALENDAR
